BEGIN:VCALENDAR
VERSION:2.0
PRODID:-//CARE Academy - ECPv6.6.4.2//NONSGML v1.0//EN
CALSCALE:GREGORIAN
METHOD:PUBLISH
X-ORIGINAL-URL:https://careacademy.org
X-WR-CALDESC:Events for CARE Academy
REFRESH-INTERVAL;VALUE=DURATION:PT1H
X-Robots-Tag:noindex
X-PUBLISHED-TTL:PT1H
BEGIN:VTIMEZONE
TZID:UTC
BEGIN:STANDARD
TZOFFSETFROM:+0000
TZOFFSETTO:+0000
TZNAME:UTC
DTSTART:20180101T000000
END:STANDARD
END:VTIMEZONE
BEGIN:VEVENT
DTSTART;TZID=UTC:20181205T100000
DTEND;TZID=UTC:20181205T150000
DTSTAMP:20260424T174132
CREATED:20181114T173305Z
LAST-MODIFIED:20181114T173541Z
UID:673-1544004000-1544022000@careacademy.org
SUMMARY:Finance Training for Budget Owners and Approvers - CARE USA
DESCRIPTION:This training is designed for Budget Owners and Approvers. This training is composed of two parts: 1) understanding “procure-to-pay” (or procurement processes) from 10:00-12:00 pm (EST)\, and 2) the fundamentals of financial management from 1:00-3:00 pm (EST). \nCompletion of boths parts of the training will result in the ability to: \n\nrecall recent changes to the CARE USA Domestic Procurement Policy (e.g.\, increased used of purchase requisitions\, purchases orders\, etc.)\ndemonstrate how to request and approve the use of CARE resources\nsummarize the fundamentals of CARE financial management\nselect and make use of basic tools used to make informed and timely financial decisions\n\n*Lunch is not included. \nRequired for: All CARE USA Budget Owners and Approvers \nAttendance: In-person \nCourse(s) language delivery: English \nPrerequisite(s): Financial Management 101: Modules 1-6 & 8 \nDelivered by: Roseanne Thornton and Gilles Honkpo\, Finance \n  \nEnroll Here
URL:https://careacademy.org/event/finance-training-for-budget-owners-and-approvers-care-usa-2/
LOCATION:@ATL Board Room 5N X 1501 + 1430\, 151 Ellis Street\, Atlanta\, GA\, 30303\, United States
CATEGORIES:CARE,CARE USA
END:VEVENT
BEGIN:VEVENT
DTSTART;TZID=UTC:20181210T100000
DTEND;TZID=UTC:20181210T150000
DTSTAMP:20260424T174132
CREATED:20181114T173358Z
LAST-MODIFIED:20181114T173703Z
UID:674-1544436000-1544454000@careacademy.org
SUMMARY:Finance Training for Budget Owners and Approvers - CARE USA
DESCRIPTION:This training is designed for Budget Owners and Approvers. This training is composed of two parts: 1) understanding “procure-to-pay” (or procurement processes) from 10:00-12:00 pm (EST)\, and 2) the fundamentals of financial management from 1:00-3:00 pm (EST). \nCompletion of boths parts of the training will result in the ability to: \n\nrecall recent changes to the CARE USA Domestic Procurement Policy (e.g.\, increased used of purchase requisitions\, purchases orders\, etc.)\ndemonstrate how to request and approve the use of CARE resources\nsummarize the fundamentals of CARE financial management\nselect and make use of basic tools used to make informed and timely financial decisions\n\n*Lunch is not included. \nRequired for: All CARE USA Budget Owners and Approvers \nAttendance: In-person \nCourse(s) language delivery: English \nPrerequisite(s): Financial Management 101: Modules 1-6 & 8 \nDelivered by: Roseanne Thornton and Gilles Honkpo\, Finance \n  \nEnroll Here
URL:https://careacademy.org/event/finance-training-for-budget-owners-and-approvers-care-usa-3/
LOCATION:@ATL Board Room 5N X 1501 + 1430\, 151 Ellis Street\, Atlanta\, GA\, 30303\, United States
CATEGORIES:CARE,CARE USA
END:VEVENT
BEGIN:VEVENT
DTSTART;TZID=UTC:20181212T090000
DTEND;TZID=UTC:20181212T170000
DTSTAMP:20260424T174132
CREATED:20180719T144727Z
LAST-MODIFIED:20180719T144727Z
UID:596-1544605200-1544634000@careacademy.org
SUMMARY:Gender\, Equality & Diversity 101 – CARE USA
DESCRIPTION:Gender\, Equality & Diversity (GED) 101 focuses on managing diversity & inclusivesness in a multi-cultural workforce. \nCompletion of this training will allow participants to: \n\nbe introduced to the many dimensions of diversity including\, but not limited to gender\, ethnicity\, race\, age\, culture\, disability\, sexual orientation\, hierarchy\, privilege\, and diversity of thought.\ndiscuss how the dimensions of diversity impact us personally and contribute to\, or undermine\, our eﬀectiveness in the workplace.\nexamine how our diﬀerences and similarities impact our organizational life and gain immediately deployable skills to function eﬀectively in a diverse and complex workplace.\nintroduced to CARE’s approach to gender equity and diversity through exploration of our differences and similarities\, and linking the learning to our programming work in the developing world.\n\nRequired for: CARE-USA employees \nAttendance: In-person \nCourse(s) language delivery: English \nDelivered by: John Crownover\, People & Culture \n  \nEnroll Here
URL:https://careacademy.org/event/gender-equality-diversity-101-care-usa-5/
LOCATION:@ATL Board Room 5N X 1501 + 1430\, 151 Ellis Street\, Atlanta\, GA\, 30303\, United States
CATEGORIES:CARE,CARE USA
ORGANIZER;CN="John Crownover":MAILTO:john.crownover@care.org
END:VEVENT
BEGIN:VEVENT
DTSTART;TZID=UTC:20181212T100000
DTEND;TZID=UTC:20181212T150000
DTSTAMP:20260424T174132
CREATED:20181114T173503Z
LAST-MODIFIED:20181114T173503Z
UID:675-1544608800-1544626800@careacademy.org
SUMMARY:Finance Training for Budget Owners and Approvers - CARE USA
DESCRIPTION:This training is designed for Budget Owners and Approvers. This training is composed of two parts: 1) understanding “procure-to-pay” (or procurement processes) from 10:00-12:00 pm (EST)\, and 2) the fundamentals of financial management from 1:00-3:00 pm (EST). \nCompletion of boths parts of the training will result in the ability to: \n\nrecall recent changes to the CARE USA Domestic Procurement Policy (e.g.\, increased used of purchase requisitions\, purchases orders\, etc.)\ndemonstrate how to request and approve the use of CARE resources\nsummarize the fundamentals of CARE financial management\nselect and make use of basic tools used to make informed and timely financial decisions\n\n*Lunch is not included. \nRequired for: All CARE USA Budget Owners and Approvers \nAttendance: In-person \nCourse(s) language delivery: English \nPrerequisite(s): Financial Management 101: Modules 1-6 & 8 \nDelivered by: Roseanne Thornton and Gilles Honkpo\, Finance \n  \nEnroll Here
URL:https://careacademy.org/event/finance-training-for-budget-owners-and-approvers-care-usa-4/
LOCATION:@ATL Board Room 5N X 1501 + 1430\, 151 Ellis Street\, Atlanta\, GA\, 30303\, United States
CATEGORIES:CARE,CARE USA
END:VEVENT
BEGIN:VEVENT
DTSTART;TZID=UTC:20181213T090000
DTEND;TZID=UTC:20181213T170000
DTSTAMP:20260424T174132
CREATED:20180719T145025Z
LAST-MODIFIED:20180719T145025Z
UID:601-1544691600-1544720400@careacademy.org
SUMMARY:Gender\, Equality & Diversity 201 – CARE USA
DESCRIPTION:Gender\, Equality & Diversity (GED) 201 focuses on using dialogue as a skill to understand experiences and perspectives across difference. \nCompletion of this training will allow participants to: \n\nbuild on the experience and knowledge gained in GED 101 to develop dialogue skills that foster a productive & trusting work environment.\ndeepen their understanding of how race\, gender\, culture and privilege impact individuals and contribute\, or undermine\, the effectiveness of the workplace.\nexamine how gender and other inequities play out on a global scale.\n\nRequired for: CARE-USA employees \nAttendance: In-person \nCourse(s) language delivery: English \nDelivered by: John Crownover\, People & Culture \n  \nEnroll Here
URL:https://careacademy.org/event/gender-equality-diversity-201-care-usa-5/
LOCATION:@ATL Board Room 5N X 1501 + 1430\, 151 Ellis Street\, Atlanta\, GA\, 30303\, United States
CATEGORIES:CARE,CARE USA
ORGANIZER;CN="John Crownover":MAILTO:john.crownover@care.org
END:VEVENT
BEGIN:VEVENT
DTSTART;TZID=UTC:20181218T093000
DTEND;TZID=UTC:20181218T123000
DTSTAMP:20260424T174132
CREATED:20180605T181314Z
LAST-MODIFIED:20180924T175239Z
UID:587-1545125400-1545136200@careacademy.org
SUMMARY:Orientation Part II: The Organization – CARE USA
DESCRIPTION:Orientation Part II: The Organization is designed to welcome new employees to CARE. This orientation is intended to provide new employees with foundational information about CARE\, as an organization. \nCompletion of this training will result in: \n\nthe understanding and application of CARE’s organizational identity\, structure\, and strategy\npractical knowledge about the history and future of CARE\nan overall understanding of CARE’s 7 program areas\nan in-depth understanding of employee resources and global expectations\n\nRequired for: US-based employees \nAttendance: In-person or remote \nCourse(s) language delivery: English \nPrerequisite(s): Orientation Part I \nDelivered by: Sarah Arnason\, People & Culture \n  \nEnroll Here
URL:https://careacademy.org/event/587/
LOCATION:@ATL Caucasus Room 5E T5005\, 151 Ellis Street\, Atlanta\, GA\, 30303\, United States
CATEGORIES:CARE,CARE USA
ORGANIZER;CN="Kendra Heide":MAILTO:kendra.heide@care.org
END:VEVENT
BEGIN:VEVENT
DTSTART;TZID=UTC:20181218T100000
DTEND;TZID=UTC:20181218T150000
DTSTAMP:20260424T174132
CREATED:20181114T173826Z
LAST-MODIFIED:20181207T131745Z
UID:676-1545127200-1545145200@careacademy.org
SUMMARY:Finance Training for Budget Owners and Approvers - CARE USA
DESCRIPTION:This training is designed for Budget Owners and Approvers. This training is composed of two parts: 1) understanding “procure-to-pay” (or procurement processes) from 10:00-12:00 pm (EST)\, and 2) the fundamentals of financial management from 1:00-3:00 pm (EST). \nCompletion of boths parts of the training will result in the ability to: \n\nrecall recent changes to the CARE USA Domestic Procurement Policy (e.g.\, increased used of purchase requisitions\, purchases orders\, etc.)\ndemonstrate how to request and approve the use of CARE resources\nsummarize the fundamentals of CARE financial management\nselect and make use of basic tools used to make informed and timely financial decisions\n\n*Lunch is not included. \nRequired for: All CARE USA Budget Owners and Approvers \nAttendance: In-person (There is a session being held in both the Atlanta and DC office. When you click the Enroll Here button below you will be able to enroll in either the Atlanta or DC session.) \nCourse(s) language delivery: English \nPrerequisite(s): Financial Management 101: Modules 1-6 & 8 \nDelivered by: Roseanne Thornton and Gilles Honkpo\, Finance \n  \nEnroll Here
URL:https://careacademy.org/event/finance-training-for-budget-owners-and-approvers-care-usa-5/
LOCATION:GA
CATEGORIES:CARE,CARE USA
END:VEVENT
END:VCALENDAR